BEGIN:VCALENDAR
VERSION:2.0
PRODID:-//Squarespace Inc/Squarespace 6//v6//EN
BEGIN:VEVENT
UID:5fd0580b26d54b3c06d03692@squarespace.com
DTSTAMP:20201224T051327Z
DTSTART:20210208T220000Z
DTEND:20210209T060000Z
SUMMARY:Working at Heights 
GEO:-34.826111;148.914318
LOCATION:Yass\, Yass\, NSW\, Australia
END:VEVENT
END:VCALENDAR
