BEGIN:VCALENDAR
VERSION:2.0
PRODID:-//Squarespace Inc/Squarespace 6//v6//EN
BEGIN:VEVENT
UID:5fd0578251357b44bb8ea47a@squarespace.com
DTSTAMP:20201224T051214Z
DTSTART:20210202T140000Z
DTEND:20210202T220000Z
SUMMARY:Working at Heights
GEO:-33.283333;149.1
LOCATION:Orange\, Orange\, NSW\, Australia
END:VEVENT
END:VCALENDAR
