BEGIN:VCALENDAR
VERSION:2.0
PRODID:-//Squarespace Inc/Squarespace 6//v6//EN
BEGIN:VEVENT
UID:5fd056eb89fd2c07d100aa0e@squarespace.com
DTSTAMP:20201224T051251Z
DTSTART:20210204T220000Z
DTEND:20210205T060000Z
SUMMARY:Working at Heights
GEO:-32.614457;149.573329
LOCATION:Mudgee\, Mudgee\, NSW\, Australia
END:VEVENT
END:VCALENDAR
