BEGIN:VCALENDAR
VERSION:2.0
PRODID:-//Squarespace Inc/Squarespace 6//v6//EN
BEGIN:VEVENT
UID:5fe42237e89905747c9b9501@squarespace.com
DTSTAMP:20201224T051046Z
DTSTART:20210216T220000Z
DTEND:20210217T060000Z
SUMMARY:Working at Heights
GEO:-32.816667;151.483333
LOCATION:Kurri\, Kurri Kurri NSW\, Australia
END:VEVENT
END:VCALENDAR
