BEGIN:VCALENDAR
VERSION:2.0
PRODID:-//Squarespace Inc/Squarespace 6//v6//EN
BEGIN:VEVENT
UID:5fd0397d28178304111bd0a8@squarespace.com
DTSTAMP:20201224T051601Z
DTSTART:20210211T220000Z
DTEND:20210212T060000Z
SUMMARY:Working at Heights
GEO:-34.280088;146.045531
LOCATION:Griffith\, Griffith\, NSW\, Australia
END:VEVENT
END:VCALENDAR
