BEGIN:VCALENDAR
VERSION:2.0
PRODID:-//Squarespace Inc/Squarespace 6//v6//EN
BEGIN:VEVENT
UID:60349c5eb4f1dd7831154095@squarespace.com
DTSTAMP:20210226T012000Z
DTSTART:20210306T220000Z
DTEND:20210307T060000Z
SUMMARY:WHS &amp\; HR Fundamentals
GEO:-32.193217;151.700565
LOCATION:New South Wales\, Hunter Valley\, NSW\, Australia
END:VEVENT
END:VCALENDAR
