BEGIN:VCALENDAR
VERSION:2.0
PRODID:-//Squarespace Inc/Squarespace 6//v6//EN
BEGIN:VEVENT
UID:5fd17b25f2ee360040efa0cb@squarespace.com
DTSTAMP:20201210T013724Z
DTSTART:20210315T220000Z
DTEND:20210317T060000Z
SUMMARY:THRIVE
GEO:-33.283333;149.1
LOCATION:Orange\, Orange\, NSW\, Australia
END:VEVENT
END:VCALENDAR
