BEGIN:VCALENDAR
VERSION:2.0
PRODID:-//Squarespace Inc/Squarespace 6//v6//EN
BEGIN:VEVENT
UID:5fd17c885e090321caaa4e83@squarespace.com
DTSTAMP:20201210T014329Z
DTSTART:20210421T230000Z
DTEND:20210423T070000Z
SUMMARY:THRIVE
GEO:-32.614457;149.573329
LOCATION:Mudgee\, Mudgee\, NSW\, Australia
END:VEVENT
END:VCALENDAR
