BEGIN:VCALENDAR
VERSION:2.0
PRODID:-//Squarespace Inc/Squarespace 6//v6//EN
BEGIN:VEVENT
UID:5fd1773c7c12252903ea2196@squarespace.com
DTSTAMP:20201210T013421Z
DTSTART:20210301T220000Z
DTEND:20210303T060000Z
SUMMARY:THRIVE
GEO:-29.465833;149.833889
LOCATION:Hunter Valley\, Hunter Valley\, NSW\, Australia
END:VEVENT
END:VCALENDAR
