BEGIN:VCALENDAR
VERSION:2.0
PRODID:-//Squarespace Inc/Squarespace 6//v6//EN
BEGIN:VEVENT
UID:5fd17bd4ebc7ce75e8a8bde2@squarespace.com
DTSTAMP:20201210T014344Z
DTSTART:20210322T220000Z
DTEND:20210324T060000Z
SUMMARY:THRIVE
GEO:-32.231502;148.632965
LOCATION:Dubbo\, Dubbo\, NSW\, Australia
END:VEVENT
END:VCALENDAR
