BEGIN:VCALENDAR
VERSION:2.0
PRODID:-//Squarespace Inc/Squarespace 6//v6//EN
BEGIN:VEVENT
UID:5fd179fb071bbc68802090d3@squarespace.com
DTSTAMP:20201210T013429Z
DTSTART:20210307T220000Z
DTEND:20210309T060000Z
SUMMARY:THRIVE
GEO:-30.298612;153.109392
LOCATION:Coffs Harbour\, Coffs Harbour\, NSW\, Australia
END:VEVENT
END:VCALENDAR
