BEGIN:VCALENDAR
VERSION:2.0
PRODID:-//Squarespace Inc/Squarespace 6//v6//EN
BEGIN:VEVENT
UID:6020c61676128b0db2019631@squarespace.com
DTSTAMP:20210208T050523Z
DTSTART:20210310T210000Z
DTEND:20210312T050000Z
SUMMARY:Introduction to Agronomy
GEO:-34.603485;146.409674
LOCATION:Yanco\, Yanco\, NSW\, Australia
END:VEVENT
END:VCALENDAR
