BEGIN:VCALENDAR
VERSION:2.0
PRODID:-//Squarespace Inc/Squarespace 6//v6//EN
BEGIN:VEVENT
UID:6020c4cf7f8b33776c99096f@squarespace.com
DTSTAMP:20210208T050545Z
DTSTART:20210303T210000Z
DTEND:20210305T050000Z
SUMMARY:Introduction to Agronomy
GEO:-31.092748;150.932033
LOCATION:tamworth\, Tamworth\, NSW\, Australia
END:VEVENT
END:VCALENDAR
