BEGIN:VCALENDAR
VERSION:2.0
PRODID:-//Squarespace Inc/Squarespace 6//v6//EN
BEGIN:VEVENT
UID:6020b53206ca9e6cc3a7baab@squarespace.com
DTSTAMP:20210208T045751Z
DTSTART:20210228T210000Z
DTEND:20210302T050000Z
SUMMARY:Introduction to Agronomy
GEO:-30.332406;149.78124
LOCATION:Narrabri\, Narrabri\, NSW\, Australia
END:VEVENT
END:VCALENDAR
