BEGIN:VCALENDAR
VERSION:2.0
PRODID:-//Squarespace Inc/Squarespace 6//v6//EN
BEGIN:VEVENT
UID:6020c54ca5594435f3c12ef9@squarespace.com
DTSTAMP:20210208T050241Z
DTSTART:20210307T210000Z
DTEND:20210309T050000Z
SUMMARY:Introduction to Agronomy 
GEO:-33.088522;147.147234
LOCATION:Condobolin\, Condobolin NSW\, Australia
END:VEVENT
END:VCALENDAR
