BEGIN:VCALENDAR
VERSION:2.0
PRODID:-//Squarespace Inc/Squarespace 6//v6//EN
BEGIN:VEVENT
UID:5fd05d5412264b5dfdca70ba@squarespace.com
DTSTAMP:20201210T001156Z
DTSTART:20210207T220000Z
DTEND:20210208T060000Z
SUMMARY:GROW
GEO:-29.465833;149.833889
LOCATION:Moree\, Moree\, NSW\, Australia
END:VEVENT
END:VCALENDAR
