BEGIN:VCALENDAR
VERSION:2.0
PRODID:-//Squarespace Inc/Squarespace 6//v6//EN
BEGIN:VEVENT
UID:5fd0654706d21916ed6ca8e2@squarespace.com
DTSTAMP:20201210T001434Z
DTSTART:20210210T220000Z
DTEND:20210211T060000Z
SUMMARY:GROW
GEO:-34.280088;146.045531
LOCATION:Griffith\, Griffith\, NSW\, Australia
END:VEVENT
END:VCALENDAR
