BEGIN:VCALENDAR
VERSION:2.0
PRODID:-//Squarespace Inc/Squarespace 6//v6//EN
BEGIN:VEVENT
UID:5fd0648b5efba8153b23033a@squarespace.com
DTSTAMP:20201210T001240Z
DTSTART:20210208T220000Z
DTEND:20210209T060000Z
SUMMARY:GROW
GEO:-32.231502;148.632965
LOCATION:Dubbo\, Dubbo\, NSW\, Australia
END:VEVENT
END:VCALENDAR
