BEGIN:VCALENDAR
VERSION:2.0
PRODID:-//Squarespace Inc/Squarespace 6//v6//EN
BEGIN:VEVENT
UID:6035f89eee1e8518e1b3b5a7@squarespace.com
DTSTAMP:20210224T070616Z
DTSTART:20210412T230000Z
DTEND:20210413T070000Z
SUMMARY:Drones in Agriculture 
GEO:-34.3;148.3
LOCATION:Young\, Young\, NSW\, Australia
END:VEVENT
END:VCALENDAR
