BEGIN:VCALENDAR
VERSION:2.0
PRODID:-//Squarespace Inc/Squarespace 6//v6//EN
BEGIN:VEVENT
UID:6035fdb335559c0316167f7d@squarespace.com
DTSTAMP:20210224T072340Z
DTSTART:20210511T230000Z
DTEND:20210512T070000Z
SUMMARY:Drones in Agriculture
GEO:-33.91677;147.204378
LOCATION:West Wyalong\, West Wyalong\, NSW\, Australia
END:VEVENT
END:VCALENDAR
