BEGIN:VCALENDAR
VERSION:2.0
PRODID:-//Squarespace Inc/Squarespace 6//v6//EN
BEGIN:VEVENT
UID:5fceda295562961561424aae@squarespace.com
DTSTAMP:20201211T014259Z
DTSTART:20210118T220000Z
DTEND:20210119T060000Z
SUMMARY:Drones in Agriculture
GEO:-29.518632;150.553775
LOCATION:Warialda\, Warialda\, NSW\, Australia
END:VEVENT
END:VCALENDAR
