BEGIN:VCALENDAR
VERSION:2.0
PRODID:-//Squarespace Inc/Squarespace 6//v6//EN
BEGIN:VEVENT
UID:5fcf22483fa051062b412094@squarespace.com
DTSTAMP:20210224T062849Z
DTSTART:20210317T220000Z
DTEND:20210318T060000Z
SUMMARY:Drones in Agriculture 
GEO:-30.026797;148.123104
LOCATION:Walgett\, Walgett\, NSW\, Australia
END:VEVENT
END:VCALENDAR
