BEGIN:VCALENDAR
VERSION:2.0
PRODID:-//Squarespace Inc/Squarespace 6//v6//EN
BEGIN:VEVENT
UID:5fcf204b01eaf4591e230464@squarespace.com
DTSTAMP:20210224T063613Z
DTSTART:20210302T220000Z
DTEND:20210303T060000Z
SUMMARY:Drones in Agriculture 
GEO:-35.516667;148.15
LOCATION:Wagga Wagga\, Wagga Wagga\, NSW\, Australia
END:VEVENT
END:VCALENDAR
