BEGIN:VCALENDAR
VERSION:2.0
PRODID:-//Squarespace Inc/Squarespace 6//v6//EN
BEGIN:VEVENT
UID:5fcf1980798354522d089bd4@squarespace.com
DTSTAMP:20201209T225248Z
DTSTART:20210202T220000Z
DTEND:20210203T060000Z
SUMMARY:Drones in Agriculture 
GEO:-33.088522;147.147234
LOCATION:Tullamore\, Tullamore\, NSW\, Australia
END:VEVENT
END:VCALENDAR
