BEGIN:VCALENDAR
VERSION:2.0
PRODID:-//Squarespace Inc/Squarespace 6//v6//EN
BEGIN:VEVENT
UID:6035ff03930ac1349bdd33bc@squarespace.com
DTSTAMP:20210224T072702Z
DTSTART:20210524T230000Z
DTEND:20210525T070000Z
SUMMARY:Drones in Agriculture
GEO:-28.930588;153.163152
LOCATION:Tatham\, Tatham\, NSW\, Australia
END:VEVENT
END:VCALENDAR
