BEGIN:VCALENDAR
VERSION:2.0
PRODID:-//Squarespace Inc/Squarespace 6//v6//EN
BEGIN:VEVENT
UID:5fcf03f8556296156148d19b@squarespace.com
DTSTAMP:20201209T225052Z
DTSTART:20210120T220000Z
DTEND:20210121T060000Z
SUMMARY:Drones in Agriculture 
GEO:-31.092748;150.932033
LOCATION:Tamworth\, Tamworth\, NSW\, Australia
END:VEVENT
END:VCALENDAR
