BEGIN:VCALENDAR
VERSION:2.0
PRODID:-//Squarespace Inc/Squarespace 6//v6//EN
BEGIN:VEVENT
UID:5fcefe22ba7003536ea0a739@squarespace.com
DTSTAMP:20201211T014626Z
DTSTART:20210119T220000Z
DTEND:20210120T060000Z
SUMMARY:Drones in Agriculture
GEO:-31.449147;149.859404
LOCATION:Premer\, Premer\, NSW\, Australia
END:VEVENT
END:VCALENDAR
