BEGIN:VCALENDAR
VERSION:2.0
PRODID:-//Squarespace Inc/Squarespace 6//v6//EN
BEGIN:VEVENT
UID:5fcf230a7c36362741a9290b@squarespace.com
DTSTAMP:20210224T065352Z
DTSTART:20210316T220000Z
DTEND:20210317T060000Z
SUMMARY:Drones in Agriculture 
GEO:-28.969278;148.988824
LOCATION:Mungindi\, Mungindi\, NSW\, Australia
END:VEVENT
END:VCALENDAR
