BEGIN:VCALENDAR
VERSION:2.0
PRODID:-//Squarespace Inc/Squarespace 6//v6//EN
BEGIN:VEVENT
UID:5fcf1ab501eaf4591e227b79@squarespace.com
DTSTAMP:20201209T230011Z
DTSTART:20210215T220000Z
DTEND:20210216T060000Z
SUMMARY:Drones in Agriculture 
GEO:-32.231502;148.632965
LOCATION:Mudgee\, Mudgee\, NSW\, Australia
END:VEVENT
END:VCALENDAR
