BEGIN:VCALENDAR
VERSION:2.0
PRODID:-//Squarespace Inc/Squarespace 6//v6//EN
BEGIN:VEVENT
UID:6035fc27beb68e696f83fe85@squarespace.com
DTSTAMP:20210224T071359Z
DTSTART:20210426T230000Z
DTEND:20210427T070000Z
SUMMARY:Drones in Agriculture
GEO:-32.614457;149.573329
LOCATION:Mudgee\, Mudgee\, NSW\, Australia
END:VEVENT
END:VCALENDAR
