BEGIN:VCALENDAR
VERSION:2.0
PRODID:-//Squarespace Inc/Squarespace 6//v6//EN
BEGIN:VEVENT
UID:6035f800398be949f00c7977@squarespace.com
DTSTAMP:20210224T065512Z
DTSTART:20210315T220000Z
DTEND:20210316T060000Z
SUMMARY:Drones in Agriculture
GEO:-29.465833;149.833889
LOCATION:Moree\, Moree\, NSW\, Australia
END:VEVENT
END:VCALENDAR
