BEGIN:VCALENDAR
VERSION:2.0
PRODID:-//Squarespace Inc/Squarespace 6//v6//EN
BEGIN:VEVENT
UID:6035fb93f9bd692e25487d91@squarespace.com
DTSTAMP:20210224T071135Z
DTSTART:20210414T230000Z
DTEND:20210415T070000Z
SUMMARY:Drones in Agriculture 
GEO:-33.181148;148.688016
LOCATION:Manildra\, Manildra\, NSW\, Australia
END:VEVENT
END:VCALENDAR
