BEGIN:VCALENDAR
VERSION:2.0
PRODID:-//Squarespace Inc/Squarespace 6//v6//EN
BEGIN:VEVENT
UID:6035fcb7f961e37fe291b42d@squarespace.com
DTSTAMP:20210224T071614Z
DTSTART:20210427T230000Z
DTEND:20210428T070000Z
SUMMARY:Drones in Agriculture
GEO:-33.299;151.193
LOCATION:Mangrove Mountain\, Mangrove Mountain\, NSW\, Australia
END:VEVENT
END:VCALENDAR
