BEGIN:VCALENDAR
VERSION:2.0
PRODID:-//Squarespace Inc/Squarespace 6//v6//EN
BEGIN:VEVENT
UID:6035fd3ead9aa2795022626d@squarespace.com
DTSTAMP:20210224T071811Z
DTSTART:20210428T230000Z
DTEND:20210429T070000Z
SUMMARY:Drones in Agriculture
GEO:-33.299;151.193
LOCATION:Maitland\, Maitland\, NSW\, Australia
END:VEVENT
END:VCALENDAR
