BEGIN:VCALENDAR
VERSION:2.0
PRODID:-//Squarespace Inc/Squarespace 6//v6//EN
BEGIN:VEVENT
UID:6035ffc69a87fe437ea27441@squarespace.com
DTSTAMP:20210224T072840Z
DTSTART:20210525T230000Z
DTEND:20210526T070000Z
SUMMARY:Drones in Agriculture
GEO:-28.809315;153.288288
LOCATION:Lismore\, Lismore\, NSW\, Australia
END:VEVENT
END:VCALENDAR
