BEGIN:VCALENDAR
VERSION:2.0
PRODID:-//Squarespace Inc/Squarespace 6//v6//EN
BEGIN:VEVENT
UID:6035fe6381609d07de9207f0@squarespace.com
DTSTAMP:20210224T072654Z
DTSTART:20210512T230000Z
DTEND:20210513T070000Z
SUMMARY:Drones in Agriculture
GEO:-33.298587;146.372476
LOCATION:Lake Cargelligo\, Lake Cargelligo\, Australia
END:VEVENT
END:VCALENDAR
