BEGIN:VCALENDAR
VERSION:2.0
PRODID:-//Squarespace Inc/Squarespace 6//v6//EN
BEGIN:VEVENT
UID:5fcf29ae1a78ee5f01612aa6@squarespace.com
DTSTAMP:20210224T065125Z
DTSTART:20210331T220000Z
DTEND:20210401T060000Z
SUMMARY:Drones in Agriculture 
GEO:-35.352372;145.737696
LOCATION:Jerliderie\, Jerilderie\, NSW\, Australia
END:VEVENT
END:VCALENDAR
