BEGIN:VCALENDAR
VERSION:2.0
PRODID:-//Squarespace Inc/Squarespace 6//v6//EN
BEGIN:VEVENT
UID:60360028122b757760d4315c@squarespace.com
DTSTAMP:20210224T073004Z
DTSTART:20210526T230000Z
DTEND:20210527T070000Z
SUMMARY:Drones in Agriculture
GEO:-29.681689;152.933655
LOCATION:Grafton\, Grafton\, NSW\, Australia
END:VEVENT
END:VCALENDAR
