BEGIN:VCALENDAR
VERSION:2.0
PRODID:-//Squarespace Inc/Squarespace 6//v6//EN
BEGIN:VEVENT
UID:5fcf1dfc798354522d08fba5@squarespace.com
DTSTAMP:20201209T230115Z
DTSTART:20210217T220000Z
DTEND:20210218T060000Z
SUMMARY:Drones in Agriculture 
GEO:-31.912008;148.088602
LOCATION:Gin Gin\, Gin Gin\, NSW\, Australia
END:VEVENT
END:VCALENDAR
