BEGIN:VCALENDAR
VERSION:2.0
PRODID:-//Squarespace Inc/Squarespace 6//v6//EN
BEGIN:VEVENT
UID:6035fae802b86001fada4bb5@squarespace.com
DTSTAMP:20210224T070928Z
DTSTART:20210413T230000Z
DTEND:20210414T070000Z
SUMMARY:Drones in Agriculture
GEO:-34.3;148.3
LOCATION:Forbes\, Forbes\, NSW\, Australia
END:VEVENT
END:VCALENDAR
