BEGIN:VCALENDAR
VERSION:2.0
PRODID:-//Squarespace Inc/Squarespace 6//v6//EN
BEGIN:VEVENT
UID:5fcf1a3e76f3eb1a46dc9fef@squarespace.com
DTSTAMP:20201209T225330Z
DTSTART:20210203T220000Z
DTEND:20210204T060000Z
SUMMARY:Drones in Agriculture 
GEO:-32.231502;148.632965
LOCATION:Dubbo\, Dubbo\, NSW\, Australia
END:VEVENT
END:VCALENDAR
