BEGIN:VCALENDAR
VERSION:2.0
PRODID:-//Squarespace Inc/Squarespace 6//v6//EN
BEGIN:VEVENT
UID:5fcf285014319a51dc2bbafa@squarespace.com
DTSTAMP:20210224T064444Z
DTSTART:20210329T220000Z
DTEND:20210330T060000Z
SUMMARY:Drones in Agriculture 
GEO:-34.500507;144.845118
LOCATION:Deniliquin\, Deniliquin\, NSW\, Australia
END:VEVENT
END:VCALENDAR
