BEGIN:VCALENDAR
VERSION:2.0
PRODID:-//Squarespace Inc/Squarespace 6//v6//EN
BEGIN:VEVENT
UID:5fcf20e5faf0bc04d1c5a07d@squarespace.com
DTSTAMP:20210224T063706Z
DTSTART:20210303T220000Z
DTEND:20210304T060000Z
SUMMARY:Drones in Agriculture 
GEO:-34.641667;148.025
LOCATION:Cootamundra\, Cootamundra\, NSW\, Australia
END:VEVENT
END:VCALENDAR
