BEGIN:VCALENDAR
VERSION:2.0
PRODID:-//Squarespace Inc/Squarespace 6//v6//EN
BEGIN:VEVENT
UID:5fcf1c9e57846c5b834f4167@squarespace.com
DTSTAMP:20201209T230037Z
DTSTART:20210216T220000Z
DTEND:20210217T060000Z
SUMMARY:Drones in Agriculture 
GEO:-31.274729;149.280419
LOCATION:Coonabarabran\, Coonabarabran\, NSW\, Australia
END:VEVENT
END:VCALENDAR
