BEGIN:VCALENDAR
VERSION:2.0
PRODID:-//Squarespace Inc/Squarespace 6//v6//EN
BEGIN:VEVENT
UID:5fcf185f7379aa359770a963@squarespace.com
DTSTAMP:20201209T225121Z
DTSTART:20210201T220000Z
DTEND:20210202T060000Z
SUMMARY:Drones in Agriculture
GEO:-33.088522;147.147234
LOCATION:Condobolin\, Condobolin\, NSW\, Australia
END:VEVENT
END:VCALENDAR
