BEGIN:VCALENDAR
VERSION:2.0
PRODID:-//Squarespace Inc/Squarespace 6//v6//EN
BEGIN:VEVENT
UID:5fcf291a7cc0b10a0acb5ed2@squarespace.com
DTSTAMP:20210224T064709Z
DTSTART:20210330T220000Z
DTEND:20210331T060000Z
SUMMARY:Drones in Agriculture
GEO:-34.280088;146.045531
LOCATION:Coleambally\, Coleambally\, NSW\, Australia
END:VEVENT
END:VCALENDAR
