BEGIN:VCALENDAR
VERSION:2.0
PRODID:-//Squarespace Inc/Squarespace 6//v6//EN
BEGIN:VEVENT
UID:5fcdae373ff10115400f0413@squarespace.com
DTSTAMP:20201211T013409Z
DTSTART:20210112T220000Z
DTEND:20210114T060000Z
SUMMARY:Cotton Pest Management
GEO:-30.332406;149.78124
LOCATION:Narrabri\, Narrabri\, NSW\, Australia
END:VEVENT
END:VCALENDAR
