BEGIN:VCALENDAR
VERSION:2.0
PRODID:-//Squarespace Inc/Squarespace 6//v6//EN
BEGIN:VEVENT
UID:5fcdb071662d5e24e0c05e32@squarespace.com
DTSTAMP:20201211T014206Z
DTSTART:20210118T220000Z
DTEND:20210120T060000Z
SUMMARY:Cotton Pest Management
GEO:-34.566667;146.4
LOCATION:Leeton\, Leeton\, NSW\, Australia
END:VEVENT
END:VCALENDAR
