BEGIN:VCALENDAR
VERSION:2.0
PRODID:-//Squarespace Inc/Squarespace 6//v6//EN
BEGIN:VEVENT
UID:5fcdb22acded405bb8f6866e@squarespace.com
DTSTAMP:20201209T225800Z
DTSTART:20210209T220000Z
DTEND:20210211T060000Z
SUMMARY:Cotton Pest Management
GEO:-32.231502;148.632965
LOCATION:Dubbo\, Dubbo\, NSW\, Australia
END:VEVENT
END:VCALENDAR
