BEGIN:VCALENDAR
VERSION:2.0
PRODID:-//Squarespace Inc/Squarespace 6//v6//EN
BEGIN:VEVENT
UID:5fd00e1a7025b80c81749210@squarespace.com
DTSTAMP:20201224T051310Z
DTSTART:20210207T220000Z
DTEND:20210208T060000Z
SUMMARY:Confined Spaces
GEO:-34.826111;148.914318
LOCATION:Yass\, Yass\, NSW\, Australia
END:VEVENT
END:VCALENDAR
